BEGIN:VCALENDAR
PRODID:-//Events Calendar//iCal4j 1.0//EN
CALSCALE:GREGORIAN
BEGIN:VEVENT
DTSTAMP:20260420T084056Z
DTSTART:20260427T000000
DTEND:20260427T000000
SUMMARY:Koningsdag Zegveld
TZID:Europe/Brussels
UID:20260420T084056Z-uidGen@fe80:0:0:0:f409:4dff:feb7:aaf7%eth0
DESCRIPTION:
LOCATION:Kern Zegveld
X-ALT-DESC;FMTTYPE=text/html:&nbsp
END:VEVENT
END:VCALENDAR
