BEGIN:VCALENDAR
PRODID:-//Events Calendar//iCal4j 1.0//EN
CALSCALE:GREGORIAN
BEGIN:VEVENT
DTSTAMP:20260419T130022Z
DTSTART:20261011T000000
DTEND:20261011T000000
SUMMARY:Culture Run Woerden
TZID:Europe/Brussels
UID:20260419T130022Z-uidGen@fe80:0:0:0:f409:4dff:feb7:aaf7%eth0
DESCRIPTION:
LOCATION:Door de (binnen)stad\, Woerden
X-ALT-DESC;FMTTYPE=text/html:&nbsp
END:VEVENT
END:VCALENDAR
